BEGIN:VCALENDAR
VERSION:2.0
PRODID:-//Standing Ovation Dance Competition - ECPv6.15.20//NONSGML v1.0//EN
CALSCALE:GREGORIAN
METHOD:PUBLISH
X-ORIGINAL-URL:https://standingovationdance.ca
X-WR-CALDESC:Events for Standing Ovation Dance Competition
REFRESH-INTERVAL;VALUE=DURATION:PT1H
X-Robots-Tag:noindex
X-PUBLISHED-TTL:PT1H
BEGIN:VTIMEZONE
TZID:UTC
BEGIN:STANDARD
TZOFFSETFROM:+0000
TZOFFSETTO:+0000
TZNAME:UTC
DTSTART:20250101T000000
END:STANDARD
END:VTIMEZONE
BEGIN:VEVENT
DTSTART;VALUE=DATE:20260519
DTEND;VALUE=DATE:20260523
DTSTAMP:20260419T113310
CREATED:20240609T030531Z
LAST-MODIFIED:20250605T231027Z
UID:1650-1779148800-1779494399@standingovationdance.ca
SUMMARY:Triffo Theatre #1
DESCRIPTION:Audience AdmissionNominal price for door entry. \nWeekend pass with a discount based on how many days the competition runs. \nPrograms and Pens sold at a nominal price. \nEncore Tickets sold at the front of house. \nParking InformationParking charges may vary. More information closer to competition date. \nHost HotelTBA \nParent InformationSee Parents Guide
URL:https://standingovationdance.ca/event/triffo-theatre-1/
LOCATION:Triffo Theatre\, #11-130\, 11110 104 Avenue NW\, Edmonton\, Alberta\, T5K 1M9\, Canada
CATEGORIES:Tour 2026
ATTACH;FMTTYPE=image/jpeg:https://standingovationdance.ca/wp-content/uploads/2020/05/Img15338-scaled.jpg
END:VEVENT
END:VCALENDAR